BEGIN:VCALENDAR
VERSION:2.0
PRODID:-//Tukios.com/
BEGIN:VEVENT
UID:5a795295-ca91-4a1d-9f86-208202b373b9@www.seaverbrown.com
DTSTAMP:20260422T173727Z
DTSTART:20260427T150000Z
DTEND:20260427T160000Z
SUMMARY:Burial
DESCRIPTION:
URL:https://www.seaverbrown.com/obituaries/frances-detweiler
LOCATION:Rose Lawn Cemetery 4410 Lee Hwy  Marion VA 24354
GEO:36.8535161;-81.4721819
END:VEVENT
END:VCALENDAR