BEGIN:VCALENDAR
VERSION:2.0
PRODID:-//Tukios.com/
BEGIN:VEVENT
UID:2eb6093f-c24b-43dc-a519-216f7f895ad9@www.seaverbrown.com
DTSTAMP:20260422T173338Z
DTSTART:20260426T200000Z
DTEND:20260426T210000Z
SUMMARY:Funeral Service
DESCRIPTION:
URL:https://www.seaverbrown.com/obituaries/frances-detweiler
LOCATION:Marion Baptist Church 1258 N Main St  Marion VA 24354
GEO:36.8441222;-81.4977017
END:VEVENT
END:VCALENDAR