BEGIN:VCALENDAR
VERSION:2.0
PRODID:-//Tukios.com/
BEGIN:VEVENT
UID:b84ec9f7-b288-4e64-a9a1-13b24a5cce4b@www.seaverbrown.com
DTSTAMP:20260422T173253Z
DTSTART:20260426T180000Z
DTEND:20260426T200000Z
SUMMARY:Visitation
DESCRIPTION:
URL:https://www.seaverbrown.com/obituaries/frances-detweiler
LOCATION:Marion Baptist Church 1258 N Main St  Marion VA 24354
GEO:36.8441222;-81.4977017
END:VEVENT
END:VCALENDAR